BEGIN:VCALENDAR
VERSION:2.0
PRODID:-//Musikverein Möhringen 1990 e.V. - ECPv6.15.20//NONSGML v1.0//EN
CALSCALE:GREGORIAN
METHOD:PUBLISH
X-WR-CALNAME:Musikverein Möhringen 1990 e.V.
X-ORIGINAL-URL:https://musikverein-moehringen.de
X-WR-CALDESC:Veranstaltungen für Musikverein Möhringen 1990 e.V.
REFRESH-INTERVAL;VALUE=DURATION:PT1H
X-Robots-Tag:noindex
X-PUBLISHED-TTL:PT1H
BEGIN:VTIMEZONE
TZID:Europe/Berlin
BEGIN:DAYLIGHT
TZOFFSETFROM:+0100
TZOFFSETTO:+0200
TZNAME:CEST
DTSTART:20250330T010000
END:DAYLIGHT
BEGIN:STANDARD
TZOFFSETFROM:+0200
TZOFFSETTO:+0100
TZNAME:CET
DTSTART:20251026T010000
END:STANDARD
BEGIN:DAYLIGHT
TZOFFSETFROM:+0100
TZOFFSETTO:+0200
TZNAME:CEST
DTSTART:20260329T010000
END:DAYLIGHT
BEGIN:STANDARD
TZOFFSETFROM:+0200
TZOFFSETTO:+0100
TZNAME:CET
DTSTART:20261025T010000
END:STANDARD
BEGIN:DAYLIGHT
TZOFFSETFROM:+0100
TZOFFSETTO:+0200
TZNAME:CEST
DTSTART:20270328T010000
END:DAYLIGHT
BEGIN:STANDARD
TZOFFSETFROM:+0200
TZOFFSETTO:+0100
TZNAME:CET
DTSTART:20271031T010000
END:STANDARD
END:VTIMEZONE
BEGIN:VEVENT
DTSTART;TZID=Europe/Berlin:20260430T173000
DTEND;TZID=Europe/Berlin:20260430T193000
DTSTAMP:20260420T041450
CREATED:20260318T174618Z
LAST-MODIFIED:20260318T174618Z
UID:1471-1777570200-1777577400@musikverein-moehringen.de
SUMMARY:Maibaum 2026
DESCRIPTION:Mitwirkung Maibaumaufstellen am Oberdorfplatz
URL:https://musikverein-moehringen.de/veranstaltungen/maibaum-2026/
LOCATION:Oberdorfplatz Möhringen
END:VEVENT
BEGIN:VEVENT
DTSTART;TZID=Europe/Berlin:20260510T150000
DTEND;TZID=Europe/Berlin:20260510T200000
DTSTAMP:20260420T041450
CREATED:20260221T111143Z
LAST-MODIFIED:20260221T111143Z
UID:1458-1778425200-1778443200@musikverein-moehringen.de
SUMMARY:Muttertagskonzerte
DESCRIPTION:Zum diesjährigen Muttertagskonzert gibt es dieses Jahr zwei Termine: 15 und 18 Uhr.
URL:https://musikverein-moehringen.de/veranstaltungen/muttertagskonzerte/
END:VEVENT
BEGIN:VEVENT
DTSTART;TZID=Europe/Berlin:20260604T110000
DTEND;TZID=Europe/Berlin:20260604T160000
DTSTAMP:20260420T041450
CREATED:20260221T111321Z
LAST-MODIFIED:20260221T111321Z
UID:1460-1780570800-1780588800@musikverein-moehringen.de
SUMMARY:Mitwirkung Fronleichnam-Prozession und Hocketse
DESCRIPTION:Mitwirkung Fronleichnam-Prozession und Unterhaltungsmusik bei der anschließenden Hocketse.
URL:https://musikverein-moehringen.de/veranstaltungen/mitwirkung-fronleichnam-prozession-und-hocketse-2/
END:VEVENT
BEGIN:VEVENT
DTSTART;TZID=Europe/Berlin:20260628T110000
DTEND;TZID=Europe/Berlin:20260628T190000
DTSTAMP:20260420T041450
CREATED:20260221T111524Z
LAST-MODIFIED:20260221T112951Z
UID:1462-1782644400-1782673200@musikverein-moehringen.de
SUMMARY:Hocketse
DESCRIPTION:Unsere alljährliche Hocketse am 28.6.2026
URL:https://musikverein-moehringen.de/veranstaltungen/hocketse-4/
LOCATION:Spitalhof Möhringen\, Filderbahnstraße 29\, Stuttgart\, 70567\, Deutschland
END:VEVENT
BEGIN:VEVENT
DTSTART;TZID=Europe/Berlin:20260711T153000
DTEND;TZID=Europe/Berlin:20260711T173000
DTSTAMP:20260420T041450
CREATED:20260221T112048Z
LAST-MODIFIED:20260221T113055Z
UID:1464-1783783800-1783791000@musikverein-moehringen.de
SUMMARY:Fasanenhoffest
DESCRIPTION:Mitwirkung Sommerfest Fasanenhof
URL:https://musikverein-moehringen.de/veranstaltungen/fasanenhoffest/
END:VEVENT
BEGIN:VEVENT
DTSTART;TZID=Europe/Berlin:20260719T160000
DTEND;TZID=Europe/Berlin:20260719T190000
DTSTAMP:20260420T041450
CREATED:20260108T072601Z
LAST-MODIFIED:20260221T113234Z
UID:1448-1784476800-1784487600@musikverein-moehringen.de
SUMMARY:Mitwirkung bei Möhringen feiert
DESCRIPTION:Mitwirkung bei Möhringen feiert
URL:https://musikverein-moehringen.de/veranstaltungen/mitwirkung-bei-moehringen-feiert-2/
LOCATION:Martinskirche Möhringen\, Oberdorfpl. 14\, Stuttgart\, 70567\, Deutschland
END:VEVENT
BEGIN:VEVENT
DTSTART;TZID=Europe/Berlin:20260823T150000
DTEND;TZID=Europe/Berlin:20260823T170000
DTSTAMP:20260420T041450
CREATED:20260221T112225Z
LAST-MODIFIED:20260221T112225Z
UID:1466-1787497200-1787504400@musikverein-moehringen.de
SUMMARY:Auftritt Kursaal Bad Cannstatt
DESCRIPTION:Auftritt Kursaal Bad Cannstatt
URL:https://musikverein-moehringen.de/veranstaltungen/auftritt-kursaal-bad-cannstatt-3/
END:VEVENT
BEGIN:VEVENT
DTSTART;TZID=Europe/Berlin:20261220T150000
DTEND;TZID=Europe/Berlin:20261220T150000
DTSTAMP:20260420T041450
CREATED:20260108T072807Z
LAST-MODIFIED:20260108T073351Z
UID:1450-1797778800-1797778800@musikverein-moehringen.de
SUMMARY:Weihnachtskonzerte
DESCRIPTION:Unser alljährliches Weihnachtskonzert findest dieses Jahr wie gewöhnlich am 4. Advent (20.12.2025) statt\, genauer gesagt Weihnachtskonzerte\, nämlich eines um 15:00\, eines um 18:00.
URL:https://musikverein-moehringen.de/veranstaltungen/weihnachtskonzerte-4/
LOCATION:Martinskirche Möhringen\, Oberdorfpl. 14\, Stuttgart\, 70567\, Deutschland
END:VEVENT
END:VCALENDAR